BEGIN:VCALENDAR
VERSION:2.0
PRODID:-//Concord Academy - ECPv6.15.17.1//NONSGML v1.0//EN
CALSCALE:GREGORIAN
METHOD:PUBLISH
X-WR-CALNAME:Concord Academy
X-ORIGINAL-URL:https://concordacademy.org
X-WR-CALDESC:Events for Concord Academy
REFRESH-INTERVAL;VALUE=DURATION:PT1H
X-Robots-Tag:noindex
X-PUBLISHED-TTL:PT1H
BEGIN:VTIMEZONE
TZID:America/New_York
BEGIN:DAYLIGHT
TZOFFSETFROM:-0500
TZOFFSETTO:-0400
TZNAME:EDT
DTSTART:20230312T070000
END:DAYLIGHT
BEGIN:STANDARD
TZOFFSETFROM:-0400
TZOFFSETTO:-0500
TZNAME:EST
DTSTART:20231105T060000
END:STANDARD
BEGIN:DAYLIGHT
TZOFFSETFROM:-0500
TZOFFSETTO:-0400
TZNAME:EDT
DTSTART:20240310T070000
END:DAYLIGHT
BEGIN:STANDARD
TZOFFSETFROM:-0400
TZOFFSETTO:-0500
TZNAME:EST
DTSTART:20241103T060000
END:STANDARD
BEGIN:DAYLIGHT
TZOFFSETFROM:-0500
TZOFFSETTO:-0400
TZNAME:EDT
DTSTART:20250309T070000
END:DAYLIGHT
BEGIN:STANDARD
TZOFFSETFROM:-0400
TZOFFSETTO:-0500
TZNAME:EST
DTSTART:20251102T060000
END:STANDARD
END:VTIMEZONE
BEGIN:VEVENT
DTSTART;TZID=America/New_York:20241023T153000
DTEND;TZID=America/New_York:20241023T170000
DTSTAMP:20260420T150231
CREATED:20240822T210624Z
LAST-MODIFIED:20241024T123730Z
UID:10010242-1729697400-1729702800@concordacademy.org
SUMMARY:Girls Junior Varsity Soccer vs Dana Hall School (Home)
DESCRIPTION:\n\nEVENT DETAILS\n\nOpponent: Dana Hall School\nHome/Away: Home\nLocation: Main Campus\nResult: W 1-0
URL:https://concordacademy.org/event/girls-junior-varsity-soccer-vs-dana-hall-school-home/
LOCATION:Main Campus\, 166 Main Street\, Concord\, MA\, 01742\, United States
CATEGORIES:Athletics Calendar,Girls Junior Varsity Soccer
END:VEVENT
BEGIN:VEVENT
DTSTART;TZID=America/New_York:20241023T153000
DTEND;TZID=America/New_York:20241023T174500
DTSTAMP:20260420T150231
CREATED:20240822T210613Z
LAST-MODIFIED:20241024T124843Z
UID:10010222-1729697400-1729705500@concordacademy.org
SUMMARY:Girls Varsity Soccer vs Dana Hall School (Home)
DESCRIPTION:\n\nEVENT DETAILS\n\nOpponent: Dana Hall School\nHome/Away: Home\nLocation: Moriarty Athletic Campus\nResult: L 1-3\nTransportation: Shuttle\nShuttle At: 2:30 p.m.
URL:https://concordacademy.org/event/girls-varsity-soccer-vs-dana-hall-school-home/
LOCATION:Moriarty Athletic Campus\, 153 Fairhaven Rd\, Concord\, MA\, 01742
CATEGORIES:Athletics Calendar,Girls Varsity Soccer
END:VEVENT
BEGIN:VEVENT
DTSTART;TZID=America/New_York:20241023T153000
DTEND;TZID=America/New_York:20241023T174500
DTSTAMP:20260420T150231
CREATED:20240822T210706Z
LAST-MODIFIED:20241024T130314Z
UID:10010308-1729697400-1729705500@concordacademy.org
SUMMARY:Girls Varsity Field Hockey vs Mount Saint Charles (Home)
DESCRIPTION:\n\nEVENT DETAILS\n\nOpponent: Mount Saint Charles\nHome/Away: Home\nLocation: Moriarty Athletic Campus\nResult: W 7-0\nTransportation: Shuttle\nShuttle At: 2:30 p.m.
URL:https://concordacademy.org/event/girls-varsity-field-hockey-vs-mount-saint-charles-home/
LOCATION:Moriarty Athletic Campus\, 153 Fairhaven Rd\, Concord\, MA\, 01742
CATEGORIES:Athletics Calendar,Girls Varsity Field Hockey
END:VEVENT
BEGIN:VEVENT
DTSTART;TZID=America/New_York:20241023T160000
DTEND;TZID=America/New_York:20241023T173000
DTSTAMP:20260420T150231
CREATED:20240822T210556Z
LAST-MODIFIED:20241024T125544Z
UID:10010194-1729699200-1729704600@concordacademy.org
SUMMARY:Boys Junior Varsity Soccer vs Milton Academy (Away)
DESCRIPTION:\n\nEVENT DETAILS\n\nOpponent: Milton Academy\nHome/Away: Away\nLocation: Milton Academy\nResult: W 7-0\nTransportation: Bedford Charter\nShuttle At: 2:35 p.m.
URL:https://concordacademy.org/event/boys-junior-varsity-soccer-vs-milton-academy-away/
LOCATION:Milton Academy
CATEGORIES:Athletics Calendar,Boys Junior Varsity Soccer
END:VEVENT
BEGIN:VEVENT
DTSTART;TZID=America/New_York:20241023T160000
DTEND;TZID=America/New_York:20241023T173000
DTSTAMP:20260420T150231
CREATED:20240822T210604Z
LAST-MODIFIED:20251008T132025Z
UID:10010206-1729699200-1729704600@concordacademy.org
SUMMARY:Boys Thirds Soccer vs Gann Academy (Home)
DESCRIPTION:Canceled\n\nEVENT DETAILS\n\nOpponent: Gann Academy\nHome/Away: Home\nLocation: Main Campus- Canceled
URL:https://concordacademy.org/event/boys-thirds-soccer-vs-gann-academy-home-2/
LOCATION:Main Campus\, 166 Main Street\, Concord\, MA\, 01742\, United States
CATEGORIES:Athletics Calendar,Boys Thirds Soccer
END:VEVENT
BEGIN:VEVENT
DTSTART;TZID=America/New_York:20241023T161500
DTEND;TZID=America/New_York:20241023T180000
DTSTAMP:20260420T150231
CREATED:20240822T210318Z
LAST-MODIFIED:20241024T125715Z
UID:10010174-1729700100-1729706400@concordacademy.org
SUMMARY:Boys Varsity Soccer vs Bancroft School (Away)
DESCRIPTION:\n\nEVENT DETAILS\n\nOpponent: Bancroft School\nHome/Away: Away\nLocation: Bancroft School\nResult: W 4-1\nTransportation: Bedford Charter\nShuttle At: 2:35 p.m.
URL:https://concordacademy.org/event/boys-varsity-soccer-vs-bancroft-school-away/
LOCATION:Bancroft School
CATEGORIES:Athletics Calendar,Boys Varsity Soccer
END:VEVENT
BEGIN:VEVENT
DTSTART;TZID=America/New_York:20241023T163000
DTEND;TZID=America/New_York:20241023T174500
DTSTAMP:20260420T150231
CREATED:20240822T210646Z
LAST-MODIFIED:20241024T125812Z
UID:10010279-1729701000-1729705500@concordacademy.org
SUMMARY:Girls Junior Varsity Volleyball vs Wheeler School (Home)
DESCRIPTION:\n\nEVENT DETAILS\n\nOpponent: Wheeler School\nHome/Away: Home\nLocation: SHAC\nResult: W 3-0
URL:https://concordacademy.org/event/girls-junior-varsity-volleyball-vs-wheeler-school-home/
LOCATION:Student Health and Athletic Center (SHAC)\, 132 Main St\, Concord\, MA\, 01742\, United States
CATEGORIES:Athletics Calendar,Girls Junior Varsity Volleyball
END:VEVENT
BEGIN:VEVENT
DTSTART;TZID=America/New_York:20241023T163000
DTEND;TZID=America/New_York:20241023T180000
DTSTAMP:20260420T150231
CREATED:20240822T210633Z
LAST-MODIFIED:20241024T125854Z
UID:10010257-1729701000-1729706400@concordacademy.org
SUMMARY:Girls Varsity Volleyball vs Wheeler School (Home)
DESCRIPTION:\n\nEVENT DETAILS\n\nOpponent: Wheeler School\nHome/Away: Home\nLocation: SHAC\nResult: W 3-1
URL:https://concordacademy.org/event/girls-varsity-volleyball-vs-wheeler-school-home/
LOCATION:Student Health and Athletic Center (SHAC)\, 132 Main St\, Concord\, MA\, 01742\, United States
CATEGORIES:Athletics Calendar,Girls Varsity Volleyball
END:VEVENT
END:VCALENDAR