BEGIN:VCALENDAR
VERSION:2.0
PRODID:-//Concord Academy - ECPv6.15.17.1//NONSGML v1.0//EN
CALSCALE:GREGORIAN
METHOD:PUBLISH
X-WR-CALNAME:Concord Academy
X-ORIGINAL-URL:https://concordacademy.org
X-WR-CALDESC:Events for Concord Academy
REFRESH-INTERVAL;VALUE=DURATION:PT1H
X-Robots-Tag:noindex
X-PUBLISHED-TTL:PT1H
BEGIN:VTIMEZONE
TZID:America/New_York
BEGIN:DAYLIGHT
TZOFFSETFROM:-0500
TZOFFSETTO:-0400
TZNAME:EDT
DTSTART:20230312T070000
END:DAYLIGHT
BEGIN:STANDARD
TZOFFSETFROM:-0400
TZOFFSETTO:-0500
TZNAME:EST
DTSTART:20231105T060000
END:STANDARD
BEGIN:DAYLIGHT
TZOFFSETFROM:-0500
TZOFFSETTO:-0400
TZNAME:EDT
DTSTART:20240310T070000
END:DAYLIGHT
BEGIN:STANDARD
TZOFFSETFROM:-0400
TZOFFSETTO:-0500
TZNAME:EST
DTSTART:20241103T060000
END:STANDARD
BEGIN:DAYLIGHT
TZOFFSETFROM:-0500
TZOFFSETTO:-0400
TZNAME:EDT
DTSTART:20250309T070000
END:DAYLIGHT
BEGIN:STANDARD
TZOFFSETFROM:-0400
TZOFFSETTO:-0500
TZNAME:EST
DTSTART:20251102T060000
END:STANDARD
END:VTIMEZONE
BEGIN:VEVENT
DTSTART;TZID=America/New_York:20241019T110000
DTEND;TZID=America/New_York:20241019T123000
DTSTAMP:20260425T111709
CREATED:20240822T210604Z
LAST-MODIFIED:20241021T122540Z
UID:10010205-1729335600-1729341000@concordacademy.org
SUMMARY:Boys Thirds Soccer vs Pingree School (Home)
DESCRIPTION:\n\nEVENT DETAILS\n\nOpponent: Pingree School\nHome/Away: Home\nLocation: Main Campus\nResult: W 5-1
URL:https://concordacademy.org/event/boys-thirds-soccer-vs-pingree-school-home-2/
LOCATION:Main Campus\, 166 Main Street\, Concord\, MA\, 01742\, United States
CATEGORIES:Athletics Calendar,Boys Thirds Soccer
END:VEVENT
BEGIN:VEVENT
DTSTART;TZID=America/New_York:20241019T130000
DTEND;TZID=America/New_York:20241019T141500
DTSTAMP:20260425T111709
CREATED:20240822T210646Z
LAST-MODIFIED:20241022T235607Z
UID:10010278-1729342800-1729347300@concordacademy.org
SUMMARY:Girls Junior Varsity Volleyball vs Pingree School (Home)
DESCRIPTION:\n\nEVENT DETAILS\n\nOpponent: Pingree School\nHome/Away: Home\nLocation: SHAC\nResult: W 2-0
URL:https://concordacademy.org/event/girls-junior-varsity-volleyball-vs-pingree-school-home/
LOCATION:Student Health and Athletic Center (SHAC)\, 132 Main St\, Concord\, MA\, 01742\, United States
CATEGORIES:Athletics Calendar,Girls Junior Varsity Volleyball
END:VEVENT
BEGIN:VEVENT
DTSTART;TZID=America/New_York:20241019T130000
DTEND;TZID=America/New_York:20241019T143000
DTSTAMP:20260425T111709
CREATED:20240822T210555Z
LAST-MODIFIED:20241021T124610Z
UID:10010193-1729342800-1729348200@concordacademy.org
SUMMARY:Boys Junior Varsity Soccer vs Pingree School (Home)
DESCRIPTION:\n\nEVENT DETAILS\n\nOpponent: Pingree School\nHome/Away: Home\nLocation: Main Campus\nResult: W 3-1
URL:https://concordacademy.org/event/boys-junior-varsity-soccer-vs-pingree-school-home/
LOCATION:Main Campus\, 166 Main Street\, Concord\, MA\, 01742\, United States
CATEGORIES:Athletics Calendar,Boys Junior Varsity Soccer
END:VEVENT
BEGIN:VEVENT
DTSTART;TZID=America/New_York:20241019T130000
DTEND;TZID=America/New_York:20241019T143000
DTSTAMP:20260425T111709
CREATED:20240822T210624Z
LAST-MODIFIED:20241021T124411Z
UID:10010241-1729342800-1729348200@concordacademy.org
SUMMARY:Girls Junior Varsity Soccer vs Pingree School (Home)
DESCRIPTION:\n\nEVENT DETAILS\n\nOpponent: Pingree School\nHome/Away: Home\nLocation: Main Campus\nResult: L 0-6
URL:https://concordacademy.org/event/girls-junior-varsity-soccer-vs-pingree-school-home/
LOCATION:Main Campus\, 166 Main Street\, Concord\, MA\, 01742\, United States
CATEGORIES:Athletics Calendar,Girls Junior Varsity Soccer
END:VEVENT
BEGIN:VEVENT
DTSTART;TZID=America/New_York:20241019T130000
DTEND;TZID=America/New_York:20241019T143000
DTSTAMP:20260425T111709
CREATED:20240822T210704Z
LAST-MODIFIED:20241021T162603Z
UID:10010307-1729342800-1729348200@concordacademy.org
SUMMARY:Girls Varsity Field Hockey vs Pingree School (Home)
DESCRIPTION:\n\nEVENT DETAILS\n\nOpponent: Pingree School\nHome/Away: Home\nLocation: Moriarty Athletic Campus\nResult: L 0-6\nTransportation: Shuttle\nShuttle At: 12:00 p.m.
URL:https://concordacademy.org/event/girls-varsity-field-hockey-vs-pingree-school-home/
LOCATION:Moriarty Athletic Campus\, 153 Fairhaven Rd\, Concord\, MA\, 01742
CATEGORIES:Athletics Calendar,Girls Varsity Field Hockey
END:VEVENT
BEGIN:VEVENT
DTSTART;TZID=America/New_York:20241019T130000
DTEND;TZID=America/New_York:20241019T144500
DTSTAMP:20260425T111709
CREATED:20240822T210318Z
LAST-MODIFIED:20241021T123331Z
UID:10010173-1729342800-1729349100@concordacademy.org
SUMMARY:Boys Varsity Soccer vs Pingree School (Home)
DESCRIPTION:\n\nEVENT DETAILS\n\nOpponent: Pingree School\nHome/Away: Home\nLocation: Moriarty Athletic Campus\nResult: W 4-1\nTransportation: Shuttle\nShuttle At: 11:45 a.m.
URL:https://concordacademy.org/event/boys-varsity-soccer-vs-pingree-school-home/
LOCATION:Moriarty Athletic Campus\, 153 Fairhaven Rd\, Concord\, MA\, 01742
CATEGORIES:Athletics Calendar,Boys Varsity Soccer
END:VEVENT
BEGIN:VEVENT
DTSTART;TZID=America/New_York:20241019T130000
DTEND;TZID=America/New_York:20241019T154500
DTSTAMP:20260425T111709
CREATED:20240822T210613Z
LAST-MODIFIED:20241021T183318Z
UID:10010221-1729342800-1729352700@concordacademy.org
SUMMARY:Girls Varsity Soccer vs Pingree School (Home)
DESCRIPTION:\n\nEVENT DETAILS\n\nOpponent: Pingree School\nHome/Away: Home\nLocation: Moriarty Athletic Campus\nResult: L 0-8\nTransportation: Shuttle\nShuttle At: 12:00 p.m.
URL:https://concordacademy.org/event/girls-varsity-soccer-vs-pingree-school-home/
LOCATION:Moriarty Athletic Campus\, 153 Fairhaven Rd\, Concord\, MA\, 01742
CATEGORIES:Athletics Calendar,Girls Varsity Soccer
END:VEVENT
BEGIN:VEVENT
DTSTART;TZID=America/New_York:20241019T130000
DTEND;TZID=America/New_York:20241019T180000
DTSTAMP:20260425T111709
CREATED:20240822T210656Z
LAST-MODIFIED:20241021T125756Z
UID:10010294-1729342800-1729360800@concordacademy.org
SUMMARY:Boys Varsity Cross Country Meet
DESCRIPTION:\n\nEVENT DETAILS\n\nOpponent: Pingree School\nHome/Away: Home\nLocation: Concord Academy\nResult: W 20-41 (Pingree)
URL:https://concordacademy.org/event/boys-varsity-cross-country-meet-5/
CATEGORIES:Athletics Calendar,Boys Varsity Cross Country
END:VEVENT
BEGIN:VEVENT
DTSTART;TZID=America/New_York:20241019T131000
DTEND;TZID=America/New_York:20241019T180000
DTSTAMP:20260425T111709
CREATED:20240822T210651Z
LAST-MODIFIED:20241022T180815Z
UID:10010287-1729343400-1729360800@concordacademy.org
SUMMARY:Girls Varsity Cross Country Meet
DESCRIPTION:\n\nEVENT DETAILS\n\nOpponent: Pingree School\nHome/Away: Home\nLocation: Concord Academy\nResult:  L 20-43 (Pingree)
URL:https://concordacademy.org/event/girls-varsity-cross-country-meet-5/
CATEGORIES:Athletics Calendar,Girls Varsity Cross Country
END:VEVENT
BEGIN:VEVENT
DTSTART;TZID=America/New_York:20241019T140000
DTEND;TZID=America/New_York:20241019T153000
DTSTAMP:20260425T111709
CREATED:20240822T210632Z
LAST-MODIFIED:20240823T143130Z
UID:10010256-1729346400-1729351800@concordacademy.org
SUMMARY:Girls Varsity Volleyball vs Pingree School (Home)
DESCRIPTION:\n\nEVENT DETAILS\n\nOpponent: Pingree School\nHome/Away: Home\nLocation: SHAC
URL:https://concordacademy.org/event/girls-varsity-volleyball-vs-pingree-school-home/
LOCATION:Student Health and Athletic Center (SHAC)\, 132 Main St\, Concord\, MA\, 01742\, United States
CATEGORIES:Athletics Calendar,Girls Varsity Volleyball
END:VEVENT
END:VCALENDAR