BEGIN:VCALENDAR
VERSION:2.0
PRODID:-//Concord Academy - ECPv6.15.17.1//NONSGML v1.0//EN
CALSCALE:GREGORIAN
METHOD:PUBLISH
X-WR-CALNAME:Concord Academy
X-ORIGINAL-URL:https://concordacademy.org
X-WR-CALDESC:Events for Concord Academy
REFRESH-INTERVAL;VALUE=DURATION:PT1H
X-Robots-Tag:noindex
X-PUBLISHED-TTL:PT1H
BEGIN:VTIMEZONE
TZID:America/New_York
BEGIN:DAYLIGHT
TZOFFSETFROM:-0500
TZOFFSETTO:-0400
TZNAME:EDT
DTSTART:20230312T070000
END:DAYLIGHT
BEGIN:STANDARD
TZOFFSETFROM:-0400
TZOFFSETTO:-0500
TZNAME:EST
DTSTART:20231105T060000
END:STANDARD
BEGIN:DAYLIGHT
TZOFFSETFROM:-0500
TZOFFSETTO:-0400
TZNAME:EDT
DTSTART:20240310T070000
END:DAYLIGHT
BEGIN:STANDARD
TZOFFSETFROM:-0400
TZOFFSETTO:-0500
TZNAME:EST
DTSTART:20241103T060000
END:STANDARD
BEGIN:DAYLIGHT
TZOFFSETFROM:-0500
TZOFFSETTO:-0400
TZNAME:EDT
DTSTART:20250309T070000
END:DAYLIGHT
BEGIN:STANDARD
TZOFFSETFROM:-0400
TZOFFSETTO:-0500
TZNAME:EST
DTSTART:20251102T060000
END:STANDARD
END:VTIMEZONE
BEGIN:VEVENT
DTSTART;TZID=America/New_York:20241010T160000
DTEND;TZID=America/New_York:20241010T173000
DTSTAMP:20260425T110934
CREATED:20240822T210604Z
LAST-MODIFIED:20241011T002744Z
UID:10010204-1728576000-1728581400@concordacademy.org
SUMMARY:Boys Thirds Soccer vs Gann Academy (Home)- Moved from 10/9
DESCRIPTION:\n\nEVENT DETAILS\n\nOpponent: Gann Academy\nHome/Away: Home\nLocation: Main Campus\nResult: W 3-1
URL:https://concordacademy.org/event/boys-thirds-soccer-vs-gann-academy-home/
LOCATION:Main Campus\, 166 Main Street\, Concord\, MA\, 01742\, United States
CATEGORIES:Athletics Calendar,Boys Thirds Soccer
END:VEVENT
BEGIN:VEVENT
DTSTART;TZID=America/New_York:20241010T160000
DTEND;TZID=America/New_York:20241010T174500
DTSTAMP:20260425T110934
CREATED:20240903T174739Z
LAST-MODIFIED:20241015T151154Z
UID:10010334-1728576000-1728582300@concordacademy.org
SUMMARY:Boys Varsity Soccer vs Gann (Home)
DESCRIPTION: \n\nEVENT DETAILS\n\nOpponent: Gann Academy\nHome/Away: Home\nLocation: Moriarty Athletic Campus\nShuttle At: 3:00 PM
URL:https://concordacademy.org/event/boys-varsity-soccer-vs-gann-home/
LOCATION:Moriarty Athletic Campus\, 153 Fairhaven Rd\, Concord\, MA\, 01742
CATEGORIES:Athletics Calendar,Boys Varsity Soccer
END:VEVENT
BEGIN:VEVENT
DTSTART;TZID=America/New_York:20241010T161500
DTEND;TZID=America/New_York:20241010T173000
DTSTAMP:20260425T110934
CREATED:20240822T210643Z
LAST-MODIFIED:20241010T235524Z
UID:10010276-1728576900-1728581400@concordacademy.org
SUMMARY:Girls Junior Varsity Volleyball vs Winsor School (Away)
DESCRIPTION:\n\nEVENT DETAILS\n\nOpponent: Winsor School\nHome/Away: Away\nLocation: Winsor School\nResult: W 2-0 (25-23, 25-22)\nTransportation: Bedford Charter\nShuttle At: 2:35 p.m.\nExcused At: 2:20 p.m.
URL:https://concordacademy.org/event/girls-junior-varsity-volleyball-vs-winsor-school-away/
LOCATION:Winsor School
CATEGORIES:Athletics Calendar,Girls Junior Varsity Volleyball
END:VEVENT
BEGIN:VEVENT
DTSTART;TZID=America/New_York:20241010T161500
DTEND;TZID=America/New_York:20241010T174500
DTSTAMP:20260425T110934
CREATED:20240822T210632Z
LAST-MODIFIED:20241011T000320Z
UID:10010254-1728576900-1728582300@concordacademy.org
SUMMARY:Girls Varsity Volleyball vs Winsor School (Away)
DESCRIPTION:\n\nEVENT DETAILS\n\nOpponent: Winsor School\nHome/Away: Away\nLocation: Winsor School\nResult: L 0-3\nTransportation: Bedford Charter\nShuttle At: 2:35 p.m.\nExcused At: 2:20 p.m.
URL:https://concordacademy.org/event/girls-varsity-volleyball-vs-winsor-school-away/
LOCATION:Winsor School
CATEGORIES:Athletics Calendar,Girls Varsity Volleyball
END:VEVENT
BEGIN:VEVENT
DTSTART;TZID=America/New_York:20241010T163000
DTEND;TZID=America/New_York:20241010T180000
DTSTAMP:20260425T110934
CREATED:20240822T210704Z
LAST-MODIFIED:20241010T235045Z
UID:10010305-1728577800-1728583200@concordacademy.org
SUMMARY:Girls Varsity Field Hockey vs Dana Hall School (Away)
DESCRIPTION:\n\nEVENT DETAILS\n\nOpponent: Dana Hall School\nHome/Away: Away\nLocation: Dana Hall School\nResult: L 1-2\nTransportation: Bedford Charter\nShuttle At: 3:00 p.m.\nExcused At: 2:45 p.m.
URL:https://concordacademy.org/event/girls-varsity-field-hockey-vs-dana-hall-school-away/
LOCATION:Dana Hall School
CATEGORIES:Athletics Calendar,Girls Varsity Field Hockey
END:VEVENT
END:VCALENDAR