BEGIN:VCALENDAR
VERSION:2.0
PRODID:-//Concord Academy - ECPv6.15.17.1//NONSGML v1.0//EN
CALSCALE:GREGORIAN
METHOD:PUBLISH
X-ORIGINAL-URL:https://concordacademy.org
X-WR-CALDESC:Events for Concord Academy
REFRESH-INTERVAL;VALUE=DURATION:PT1H
X-Robots-Tag:noindex
X-PUBLISHED-TTL:PT1H
BEGIN:VTIMEZONE
TZID:America/New_York
BEGIN:DAYLIGHT
TZOFFSETFROM:-0500
TZOFFSETTO:-0400
TZNAME:EDT
DTSTART:20230312T070000
END:DAYLIGHT
BEGIN:STANDARD
TZOFFSETFROM:-0400
TZOFFSETTO:-0500
TZNAME:EST
DTSTART:20231105T060000
END:STANDARD
BEGIN:DAYLIGHT
TZOFFSETFROM:-0500
TZOFFSETTO:-0400
TZNAME:EDT
DTSTART:20240310T070000
END:DAYLIGHT
BEGIN:STANDARD
TZOFFSETFROM:-0400
TZOFFSETTO:-0500
TZNAME:EST
DTSTART:20241103T060000
END:STANDARD
BEGIN:DAYLIGHT
TZOFFSETFROM:-0500
TZOFFSETTO:-0400
TZNAME:EDT
DTSTART:20250309T070000
END:DAYLIGHT
BEGIN:STANDARD
TZOFFSETFROM:-0400
TZOFFSETTO:-0500
TZNAME:EST
DTSTART:20251102T060000
END:STANDARD
END:VTIMEZONE
BEGIN:VEVENT
DTSTART;TZID=America/New_York:20240930T163000
DTEND;TZID=America/New_York:20240930T171500
DTSTAMP:20260425T223609
CREATED:20240822T210643Z
LAST-MODIFIED:20241001T143918Z
UID:10010274-1727713800-1727716500@concordacademy.org
SUMMARY:Girls Junior Varsity Volleyball vs Dana Hall School (Home)
DESCRIPTION:\n\nEVENT DETAILS\n\nOpponent: Dana Hall School\nHome/Away: Home\nLocation: SHAC\nResult: L 0-2
URL:https://concordacademy.org/event/girls-junior-varsity-volleyball-vs-dana-hall-school-home/
LOCATION:Student Health and Athletic Center (SHAC)\, 132 Main St\, Concord\, MA\, 01742\, United States
CATEGORIES:Athletics Calendar,Girls Junior Varsity Volleyball
END:VEVENT
BEGIN:VEVENT
DTSTART;TZID=America/New_York:20240930T163000
DTEND;TZID=America/New_York:20240930T180000
DTSTAMP:20260425T223609
CREATED:20240822T210630Z
LAST-MODIFIED:20241001T144036Z
UID:10010252-1727713800-1727719200@concordacademy.org
SUMMARY:Girls Varsity Volleyball vs Dana Hall School (Home)
DESCRIPTION:\n\nEVENT DETAILS\n\nOpponent: Dana Hall School\nHome/Away: Home\nLocation: SHAC\nResult: Win 3-1
URL:https://concordacademy.org/event/girls-varsity-volleyball-vs-dana-hall-school-home/
LOCATION:Student Health and Athletic Center (SHAC)\, 132 Main St\, Concord\, MA\, 01742\, United States
CATEGORIES:Athletics Calendar,Girls Varsity Volleyball
END:VEVENT
END:VCALENDAR