BEGIN:VCALENDAR
VERSION:2.0
PRODID:-//Concord Academy - ECPv6.15.17.1//NONSGML v1.0//EN
CALSCALE:GREGORIAN
METHOD:PUBLISH
X-ORIGINAL-URL:https://concordacademy.org
X-WR-CALDESC:Events for Concord Academy
REFRESH-INTERVAL;VALUE=DURATION:PT1H
X-Robots-Tag:noindex
X-PUBLISHED-TTL:PT1H
BEGIN:VTIMEZONE
TZID:America/New_York
BEGIN:DAYLIGHT
TZOFFSETFROM:-0500
TZOFFSETTO:-0400
TZNAME:EDT
DTSTART:20230312T070000
END:DAYLIGHT
BEGIN:STANDARD
TZOFFSETFROM:-0400
TZOFFSETTO:-0500
TZNAME:EST
DTSTART:20231105T060000
END:STANDARD
BEGIN:DAYLIGHT
TZOFFSETFROM:-0500
TZOFFSETTO:-0400
TZNAME:EDT
DTSTART:20240310T070000
END:DAYLIGHT
BEGIN:STANDARD
TZOFFSETFROM:-0400
TZOFFSETTO:-0500
TZNAME:EST
DTSTART:20241103T060000
END:STANDARD
BEGIN:DAYLIGHT
TZOFFSETFROM:-0500
TZOFFSETTO:-0400
TZNAME:EDT
DTSTART:20250309T070000
END:DAYLIGHT
BEGIN:STANDARD
TZOFFSETFROM:-0400
TZOFFSETTO:-0500
TZNAME:EST
DTSTART:20251102T060000
END:STANDARD
END:VTIMEZONE
BEGIN:VEVENT
DTSTART;TZID=America/New_York:20240927T160000
DTEND;TZID=America/New_York:20240927T173000
DTSTAMP:20260425T075644
CREATED:20240822T210621Z
LAST-MODIFIED:20240928T035245Z
UID:10010236-1727452800-1727458200@concordacademy.org
SUMMARY:Girls Junior Varsity Soccer vs Dana Hall School (Away)
DESCRIPTION:\n\nEVENT DETAILS\n\nOpponent: Dana Hall School\nHome/Away: Away\nLocation: Dana Hall School\nResult: T 0-0\nTransportation: Bedford Charter\nShuttle At: 2:35 p.m.
URL:https://concordacademy.org/event/girls-junior-varsity-soccer-vs-dana-hall-school-away/
LOCATION:Dana Hall School
CATEGORIES:Athletics Calendar,Girls Junior Varsity Soccer
END:VEVENT
BEGIN:VEVENT
DTSTART;TZID=America/New_York:20240927T160000
DTEND;TZID=America/New_York:20240927T174500
DTSTAMP:20260425T075644
CREATED:20240822T210217Z
LAST-MODIFIED:20240928T034856Z
UID:10010169-1727452800-1727459100@concordacademy.org
SUMMARY:Boys Varsity Soccer vs Dexter School (Away)
DESCRIPTION:\n\nEVENT DETAILS\n\nOpponent: Dexter School\nHome/Away: Away\nLocation: Dexter School\nResult: W 2-0\nTransportation: Bedford Charter\nShuttle At: 2:35 p.m.
URL:https://concordacademy.org/event/boys-varsity-soccer-vs-dexter-school-away/
LOCATION:Dexter School
CATEGORIES:Athletics Calendar,Boys Varsity Soccer
END:VEVENT
BEGIN:VEVENT
DTSTART;TZID=America/New_York:20240927T160000
DTEND;TZID=America/New_York:20240927T174500
DTSTAMP:20260425T075644
CREATED:20240822T210553Z
LAST-MODIFIED:20240928T035359Z
UID:10010189-1727452800-1727459100@concordacademy.org
SUMMARY:Boys Junior Varsity Soccer vs Dexter School (Away)
DESCRIPTION:\n\nEVENT DETAILS\n\nOpponent: Dexter School\nHome/Away: Away\nLocation: Dexter Southfield School\nResult: T 2-2\nTransportation: Bedford Charter\nShuttle At: 2:35 p.m.
URL:https://concordacademy.org/event/boys-junior-varsity-soccer-vs-dexter-school-away/
LOCATION:Dexter Southfield School
CATEGORIES:Athletics Calendar,Boys Junior Varsity Soccer
END:VEVENT
BEGIN:VEVENT
DTSTART;TZID=America/New_York:20240927T160000
DTEND;TZID=America/New_York:20240927T174500
DTSTAMP:20260425T075644
CREATED:20240822T210600Z
LAST-MODIFIED:20240823T141516Z
UID:10010201-1727452800-1727459100@concordacademy.org
SUMMARY:Boys Thirds Soccer vs Chapel Hill Chauncy Hall (Home)
DESCRIPTION:\n\nEVENT DETAILS\n\nOpponent: Chapel Hill Chauncy Hall\nHome/Away: Home\nLocation: Main Campus
URL:https://concordacademy.org/event/boys-thirds-soccer-vs-chapel-hill-chauncy-hall-home/
LOCATION:Main Campus\, 166 Main Street\, Concord\, MA\, 01742\, United States
CATEGORIES:Athletics Calendar,Boys Thirds Soccer
END:VEVENT
BEGIN:VEVENT
DTSTART;TZID=America/New_York:20240927T160000
DTEND;TZID=America/New_York:20240927T181500
DTSTAMP:20260425T075644
CREATED:20240822T210610Z
LAST-MODIFIED:20240928T035126Z
UID:10010216-1727452800-1727460900@concordacademy.org
SUMMARY:Girls Varsity Soccer vs Cushing Academy (Home)
DESCRIPTION:\n\nEVENT DETAILS\n\nOpponent: Cushing Academy\nHome/Away: Home\nLocation: Moriarty Athletic Campus\nResult: W 2-0\nTransportation: Shuttle\nShuttle At: 3:00 p.m.
URL:https://concordacademy.org/event/girls-varsity-soccer-vs-cushing-academy-home/
LOCATION:Moriarty Athletic Campus\, 153 Fairhaven Rd\, Concord\, MA\, 01742
CATEGORIES:Athletics Calendar,Girls Varsity Soccer
END:VEVENT
BEGIN:VEVENT
DTSTART;TZID=America/New_York:20240927T163000
DTEND;TZID=America/New_York:20240927T180000
DTSTAMP:20260425T075644
CREATED:20240822T210630Z
LAST-MODIFIED:20240928T035507Z
UID:10010251-1727454600-1727460000@concordacademy.org
SUMMARY:Girls Varsity Volleyball vs Governors Academy (Away)
DESCRIPTION:\n\nEVENT DETAILS\n\nOpponent: Governors Academy\nHome/Away: Away\nLocation: Governor's Academy\nResult: L 1-3\nTransportation: Bedford Charter\nShuttle At: 2:35 p.m.
URL:https://concordacademy.org/event/girls-varsity-volleyball-vs-governors-academy-away/
LOCATION:Governor’s Academy
CATEGORIES:Athletics Calendar,Girls Varsity Volleyball
END:VEVENT
BEGIN:VEVENT
DTSTART;TZID=America/New_York:20240927T173000
DTEND;TZID=America/New_York:20240927T174500
DTSTAMP:20260425T075644
CREATED:20240822T210642Z
LAST-MODIFIED:20240928T035619Z
UID:10010273-1727458200-1727459100@concordacademy.org
SUMMARY:Girls Junior Varsity Volleyball vs Cambridge School of Weston (Away)
DESCRIPTION:\n\nEVENT DETAILS\n\nOpponent: Cambridge School of Weston\nHome/Away: Away\nLocation: Cambridge School of Weston\nResult: W 2-0\nTransportation: Bedford Charter\nShuttle At: 4:30 p.m.
URL:https://concordacademy.org/event/girls-junior-varsity-volleyball-vs-cambridge-school-of-weston-away/
LOCATION:Cambridge School of Weston
CATEGORIES:Athletics Calendar,Girls Junior Varsity Volleyball
END:VEVENT
END:VCALENDAR