BEGIN:VCALENDAR
VERSION:2.0
PRODID:-//Concord Academy - ECPv6.15.17.1//NONSGML v1.0//EN
CALSCALE:GREGORIAN
METHOD:PUBLISH
X-ORIGINAL-URL:https://concordacademy.org
X-WR-CALDESC:Events for Concord Academy
REFRESH-INTERVAL;VALUE=DURATION:PT1H
X-Robots-Tag:noindex
X-PUBLISHED-TTL:PT1H
BEGIN:VTIMEZONE
TZID:America/New_York
BEGIN:DAYLIGHT
TZOFFSETFROM:-0500
TZOFFSETTO:-0400
TZNAME:EDT
DTSTART:20230312T070000
END:DAYLIGHT
BEGIN:STANDARD
TZOFFSETFROM:-0400
TZOFFSETTO:-0500
TZNAME:EST
DTSTART:20231105T060000
END:STANDARD
BEGIN:DAYLIGHT
TZOFFSETFROM:-0500
TZOFFSETTO:-0400
TZNAME:EDT
DTSTART:20240310T070000
END:DAYLIGHT
BEGIN:STANDARD
TZOFFSETFROM:-0400
TZOFFSETTO:-0500
TZNAME:EST
DTSTART:20241103T060000
END:STANDARD
BEGIN:DAYLIGHT
TZOFFSETFROM:-0500
TZOFFSETTO:-0400
TZNAME:EDT
DTSTART:20250309T070000
END:DAYLIGHT
BEGIN:STANDARD
TZOFFSETFROM:-0400
TZOFFSETTO:-0500
TZNAME:EST
DTSTART:20251102T060000
END:STANDARD
END:VTIMEZONE
BEGIN:VEVENT
DTSTART;TZID=America/New_York:20240921T090000
DTEND;TZID=America/New_York:20240921T180000
DTSTAMP:20260420T171807
CREATED:20240910T170021Z
LAST-MODIFIED:20260420T203931Z
UID:10010362-1726909200-1726941600@concordacademy.org
SUMMARY:Hiking Day Trip–Monadnock (Student Activity)
DESCRIPTION:
URL:https://concordacademy.org/event/hiking-day-trip-monadnock/
CATEGORIES:All School Events
END:VEVENT
BEGIN:VEVENT
DTSTART;TZID=America/New_York:20240921T110000
DTEND;TZID=America/New_York:20240921T123000
DTSTAMP:20260420T171807
CREATED:20240822T210519Z
LAST-MODIFIED:20240822T210519Z
UID:10010187-1726916400-1726921800@concordacademy.org
SUMMARY:Boys Junior Varsity Soccer vs Berwick Academy (Away)
DESCRIPTION:\n\nEVENT DETAILS\n\nOpponent: Berwick Academy\nHome/Away: Away\nLocation: Berwick Academy\nTransportation: Bedford Charter\nShuttle At: 8:45 a.m.
URL:https://concordacademy.org/event/boys-junior-varsity-soccer-vs-berwick-academy-away/
LOCATION:Berwick Academy
CATEGORIES:Athletics Calendar,Boys Junior Varsity Soccer
END:VEVENT
BEGIN:VEVENT
DTSTART;TZID=America/New_York:20240921T110000
DTEND;TZID=America/New_York:20240921T124500
DTSTAMP:20260420T171807
CREATED:20240822T210213Z
LAST-MODIFIED:20241104T184611Z
UID:10010167-1726916400-1726922700@concordacademy.org
SUMMARY:Boys Varsity Soccer vs Berwick Academy (Away)
DESCRIPTION: \n\nEVENT DETAILS\n\nOpponent: Berwick Academy\nHome/Away: Away\nLocation: Berwick Academy\nResult: W 1-0\nTransportation: Bedford Charter\nShuttle At: 8:45 a.m.
URL:https://concordacademy.org/event/boys-varsity-soccer-vs-berwick-academy-away/
LOCATION:Berwick Academy
CATEGORIES:Athletics Calendar,Boys Varsity Soccer
END:VEVENT
BEGIN:VEVENT
DTSTART;TZID=America/New_York:20240921T121500
DTEND;TZID=America/New_York:20240921T143000
DTSTAMP:20260420T171807
CREATED:20240910T170022Z
LAST-MODIFIED:20260420T203927Z
UID:10010365-1726920900-1726929000@concordacademy.org
SUMMARY:Marx Fencing (Student Activity) 8 week program
DESCRIPTION:
URL:https://concordacademy.org/event/marx-fencing-student-activity/
CATEGORIES:All School Events
END:VEVENT
BEGIN:VEVENT
DTSTART;TZID=America/New_York:20240921T130000
DTEND;TZID=America/New_York:20240921T160000
DTSTAMP:20260420T171807
CREATED:20240910T170022Z
LAST-MODIFIED:20260420T203927Z
UID:10010364-1726923600-1726934400@concordacademy.org
SUMMARY:Burlington Shopping Trip (Student Activity)
DESCRIPTION:Student trip to HMart and Target.
URL:https://concordacademy.org/event/burlington-shopping-trip-hmart-target/
CATEGORIES:All School Events
END:VEVENT
BEGIN:VEVENT
DTSTART;TZID=America/New_York:20240921T180000
DTEND;TZID=America/New_York:20240921T220000
DTSTAMP:20260420T171807
CREATED:20240910T170023Z
LAST-MODIFIED:20260420T203931Z
UID:10010366-1726941600-1726956000@concordacademy.org
SUMMARY:Canobie Lake (Student Activity)
DESCRIPTION:
URL:https://concordacademy.org/event/canobie-lake-student-activity/
CATEGORIES:All School Events
END:VEVENT
END:VCALENDAR