BEGIN:VCALENDAR
VERSION:2.0
PRODID:-//Concord Academy - ECPv6.15.17.1//NONSGML v1.0//EN
CALSCALE:GREGORIAN
METHOD:PUBLISH
X-ORIGINAL-URL:https://concordacademy.org
X-WR-CALDESC:Events for Concord Academy
REFRESH-INTERVAL;VALUE=DURATION:PT1H
X-Robots-Tag:noindex
X-PUBLISHED-TTL:PT1H
BEGIN:VTIMEZONE
TZID:America/New_York
BEGIN:DAYLIGHT
TZOFFSETFROM:-0500
TZOFFSETTO:-0400
TZNAME:EDT
DTSTART:20230312T070000
END:DAYLIGHT
BEGIN:STANDARD
TZOFFSETFROM:-0400
TZOFFSETTO:-0500
TZNAME:EST
DTSTART:20231105T060000
END:STANDARD
BEGIN:DAYLIGHT
TZOFFSETFROM:-0500
TZOFFSETTO:-0400
TZNAME:EDT
DTSTART:20240310T070000
END:DAYLIGHT
BEGIN:STANDARD
TZOFFSETFROM:-0400
TZOFFSETTO:-0500
TZNAME:EST
DTSTART:20241103T060000
END:STANDARD
BEGIN:DAYLIGHT
TZOFFSETFROM:-0500
TZOFFSETTO:-0400
TZNAME:EDT
DTSTART:20250309T070000
END:DAYLIGHT
BEGIN:STANDARD
TZOFFSETFROM:-0400
TZOFFSETTO:-0500
TZNAME:EST
DTSTART:20251102T060000
END:STANDARD
END:VTIMEZONE
BEGIN:VEVENT
DTSTART;VALUE=DATE:20240913
DTEND;VALUE=DATE:20240916
DTSTAMP:20260422T145424
CREATED:20240909T203723Z
LAST-MODIFIED:20260422T182007Z
UID:10010349-1726185600-1726444799@concordacademy.org
SUMMARY:Community Weekend
DESCRIPTION:\n\nEVENT DETAILS\n\nHome/Away: Home
URL:https://concordacademy.org/event/community-weekend-2/
CATEGORIES:All School Events
END:VEVENT
BEGIN:VEVENT
DTSTART;TZID=America/New_York:20240913T160000
DTEND;TZID=America/New_York:20240913T171500
DTSTAMP:20260422T145424
CREATED:20240822T210640Z
LAST-MODIFIED:20240916T212302Z
UID:10010269-1726243200-1726247700@concordacademy.org
SUMMARY:Girls Junior Varsity Volleyball vs Cambridge School of Weston (Home)
DESCRIPTION:\n\nEVENT DETAILS\n\nOpponent: Cambridge School of Weston\nHome/Away: Home\nLocation: SHAC\nResult: W 2-0
URL:https://concordacademy.org/event/girls-junior-varsity-volleyball-vs-cambridge-school-of-weston-home/
LOCATION:Student Health and Athletic Center (SHAC)\, 132 Main St\, Concord\, MA\, 01742\, United States
CATEGORIES:Athletics Calendar,Girls Junior Varsity Volleyball
END:VEVENT
BEGIN:VEVENT
DTSTART;TZID=America/New_York:20240913T160000
DTEND;TZID=America/New_York:20240913T173000
DTSTAMP:20260422T145424
CREATED:20240822T210518Z
LAST-MODIFIED:20240916T213124Z
UID:10010185-1726243200-1726248600@concordacademy.org
SUMMARY:Boys Junior Varsity Soccer vs Middlesex School (Home)
DESCRIPTION: \n\nEVENT DETAILS\n\nOpponent: Middlesex School\nHome/Away: Home\nLocation: Main Campus\nResult: W 2-0
URL:https://concordacademy.org/event/boys-junior-varsity-soccer-vs-middlesex-school-away/
LOCATION:Main Campus\, 166 Main Street\, Concord\, MA\, 01742\, United States
CATEGORIES:Athletics Calendar,Boys Junior Varsity Soccer
END:VEVENT
BEGIN:VEVENT
DTSTART;TZID=America/New_York:20240913T160000
DTEND;TZID=America/New_York:20240913T173000
DTSTAMP:20260422T145424
CREATED:20240822T210619Z
LAST-MODIFIED:20240916T212519Z
UID:10010232-1726243200-1726248600@concordacademy.org
SUMMARY:Girls Junior Varsity Soccer vs Middlesex School (Away)
DESCRIPTION: \n\nEVENT DETAILS\n\nOpponent: Middlesex School\nHome/Away: Away\nLocation: Middlesex School\nResult: L 0-6\nShuttle At: 3:15 p.m.
URL:https://concordacademy.org/event/girls-junior-varsity-soccer-vs-middlesex-school-home/
LOCATION:Middlesex School
CATEGORIES:Athletics Calendar,Girls Junior Varsity Soccer
END:VEVENT
BEGIN:VEVENT
DTSTART;TZID=America/New_York:20240913T160000
DTEND;TZID=America/New_York:20240913T173000
DTSTAMP:20260422T145424
CREATED:20240822T210659Z
LAST-MODIFIED:20240916T212618Z
UID:10010298-1726243200-1726248600@concordacademy.org
SUMMARY:Girls Varsity Field Hockey vs Beaver Country Day School (Away)
DESCRIPTION: \n\nEVENT DETAILS\n\nOpponent: Beaver Country Day School\nHome/Away: Away\nLocation: Beaver Country Day School\nResult: L 1-2\nTransportation: Bedford Charter\nShuttle At: 2:35 p.m.
URL:https://concordacademy.org/event/girls-varsity-field-hockey-vs-beaver-country-day-school-away/
LOCATION:Beaver Country Day School
CATEGORIES:Athletics Calendar,Girls Varsity Field Hockey
END:VEVENT
BEGIN:VEVENT
DTSTART;TZID=America/New_York:20240913T160000
DTEND;TZID=America/New_York:20240913T174500
DTSTAMP:20260422T145424
CREATED:20240822T210212Z
LAST-MODIFIED:20240916T212117Z
UID:10010165-1726243200-1726249500@concordacademy.org
SUMMARY:Boys Varsity Soccer vs St. Andrews School (Home)
DESCRIPTION:\n\nEVENT DETAILS\n\nOpponent: St. Andrews School\nHome/Away: Home\nLocation: Moriarty Athletic Campus\nResult: L 0-2\nTransportation: Shuttle\nShuttle At: 3:00 p.m.
URL:https://concordacademy.org/event/boys-varsity-soccer-vs-st-andrews-school-home/
LOCATION:Moriarty Athletic Campus\, 153 Fairhaven Rd\, Concord\, MA\, 01742
CATEGORIES:Athletics Calendar,Boys Varsity Soccer
END:VEVENT
BEGIN:VEVENT
DTSTART;TZID=America/New_York:20240913T163000
DTEND;TZID=America/New_York:20240913T180000
DTSTAMP:20260422T145424
CREATED:20240822T210559Z
LAST-MODIFIED:20240916T213231Z
UID:10010198-1726245000-1726250400@concordacademy.org
SUMMARY:Boys Thirds Soccer vs Pingree School (Home)
DESCRIPTION:\n\nEVENT DETAILS\n\nOpponent: Pingree School\nHome/Away: Home\nLocation: Main Campus\nResult: W 3-0
URL:https://concordacademy.org/event/boys-thirds-soccer-vs-pingree-school-home/
LOCATION:Main Campus\, 166 Main Street\, Concord\, MA\, 01742\, United States
CATEGORIES:Athletics Calendar,Boys Thirds Soccer
END:VEVENT
BEGIN:VEVENT
DTSTART;TZID=America/New_York:20240913T163000
DTEND;TZID=America/New_York:20240913T181500
DTSTAMP:20260422T145424
CREATED:20240822T210607Z
LAST-MODIFIED:20240916T212007Z
UID:10010211-1726245000-1726251300@concordacademy.org
SUMMARY:Girls Varsity Soccer vs Portsmouth Abbey School (Away)
DESCRIPTION:\n\nEVENT DETAILS\n\nOpponent: Portsmouth Abbey School\nHome/Away: Away\nLocation: Portsmouth Abbey School\nResult: W 2-1\nTransportation: Bedford Charter\nShuttle At: 1:50 p.m.
URL:https://concordacademy.org/event/girls-varsity-soccer-vs-portsmouth-abbey-school-away/
LOCATION:Portsmouth Abbey School
CATEGORIES:Athletics Calendar,Girls Varsity Soccer
END:VEVENT
BEGIN:VEVENT
DTSTART;TZID=America/New_York:20240913T170000
DTEND;TZID=America/New_York:20240913T173000
DTSTAMP:20260422T145424
CREATED:20240822T210627Z
LAST-MODIFIED:20240916T212722Z
UID:10010247-1726246800-1726248600@concordacademy.org
SUMMARY:Girls Varsity Volleyball vs Worcester Academy (Away)
DESCRIPTION:\n\nEVENT DETAILS\n\nOpponent: Worcester Academy\nHome/Away: Away\nLocation: Worcester Academy\nResult: L 1-3\nTransportation: Bedford Charter\nShuttle At: 3:15 p.m.
URL:https://concordacademy.org/event/girls-varsity-volleyball-vs-worcester-academy-away/
LOCATION:Worcester Academy
CATEGORIES:Athletics Calendar,Girls Varsity Volleyball
END:VEVENT
BEGIN:VEVENT
DTSTART;TZID=America/New_York:20240913T190000
DTEND;TZID=America/New_York:20240913T210000
DTSTAMP:20260422T145424
CREATED:20240910T170017Z
LAST-MODIFIED:20260422T182007Z
UID:10010353-1726254000-1726261200@concordacademy.org
SUMMARY:Club Expo (Student Activity)
DESCRIPTION:
URL:https://concordacademy.org/event/club-expo-student-activity/
CATEGORIES:All School Events
END:VEVENT
END:VCALENDAR