BEGIN:VCALENDAR
VERSION:2.0
PRODID:-//Concord Academy - ECPv6.15.17.1//NONSGML v1.0//EN
CALSCALE:GREGORIAN
METHOD:PUBLISH
X-ORIGINAL-URL:https://concordacademy.org
X-WR-CALDESC:Events for Concord Academy
REFRESH-INTERVAL;VALUE=DURATION:PT1H
X-Robots-Tag:noindex
X-PUBLISHED-TTL:PT1H
BEGIN:VTIMEZONE
TZID:America/New_York
BEGIN:DAYLIGHT
TZOFFSETFROM:-0500
TZOFFSETTO:-0400
TZNAME:EDT
DTSTART:20230312T070000
END:DAYLIGHT
BEGIN:STANDARD
TZOFFSETFROM:-0400
TZOFFSETTO:-0500
TZNAME:EST
DTSTART:20231105T060000
END:STANDARD
BEGIN:DAYLIGHT
TZOFFSETFROM:-0500
TZOFFSETTO:-0400
TZNAME:EDT
DTSTART:20240310T070000
END:DAYLIGHT
BEGIN:STANDARD
TZOFFSETFROM:-0400
TZOFFSETTO:-0500
TZNAME:EST
DTSTART:20241103T060000
END:STANDARD
BEGIN:DAYLIGHT
TZOFFSETFROM:-0500
TZOFFSETTO:-0400
TZNAME:EDT
DTSTART:20250309T070000
END:DAYLIGHT
BEGIN:STANDARD
TZOFFSETFROM:-0400
TZOFFSETTO:-0500
TZNAME:EST
DTSTART:20251102T060000
END:STANDARD
END:VTIMEZONE
BEGIN:VEVENT
DTSTART;TZID=America/New_York:20240117T160000
DTEND;TZID=America/New_York:20240117T171500
DTSTAMP:20260422T144004
CREATED:20240625T201225Z
LAST-MODIFIED:20240625T201225Z
UID:10005172-1705507200-1705511700@concordacademy.org
SUMMARY:Girls Junior Varsity Basketball
DESCRIPTION:\n\nEVENT DETAILS\n\nOpponent: Montrose School\nHome/Away: Home\nLocation: East Court, SHAC\nResult: W 31-25
URL:https://concordacademy.org/event/girls-junior-varsity-basketball-19/
CATEGORIES:Athletics Calendar,Girls Junior Varsity Basketball
END:VEVENT
BEGIN:VEVENT
DTSTART;TZID=America/New_York:20240117T160000
DTEND;TZID=America/New_York:20240117T173000
DTSTAMP:20260422T144004
CREATED:20240625T201233Z
LAST-MODIFIED:20240625T201233Z
UID:10005171-1705507200-1705512600@concordacademy.org
SUMMARY:Girls Varsity Basketball
DESCRIPTION:\n\nEVENT DETAILS\n\nOpponent: Montrose School\nHome/Away: Home\nLocation: West Court, SHAC\nResult: W 58-38
URL:https://concordacademy.org/event/girls-varsity-basketball-22/
CATEGORIES:Athletics Calendar,Girls Varsity Basketball
END:VEVENT
BEGIN:VEVENT
DTSTART;TZID=America/New_York:20240117T163000
DTEND;TZID=America/New_York:20240117T180000
DTSTAMP:20260422T144004
CREATED:20240625T201206Z
LAST-MODIFIED:20240625T201206Z
UID:10005174-1705509000-1705514400@concordacademy.org
SUMMARY:Boys Varsity Basketball
DESCRIPTION:\n\nEVENT DETAILS\n\nOpponent: Portsmouth Abbey School\nHome/Away: Away\nLocation: Portsmouth Abbey School\nResult: L 45-70
URL:https://concordacademy.org/event/boys-varsity-basketball-27/
CATEGORIES:Athletics Calendar,Boys Varsity Basketball
END:VEVENT
BEGIN:VEVENT
DTSTART;TZID=America/New_York:20240117T163000
DTEND;TZID=America/New_York:20240117T180000
DTSTAMP:20260422T144004
CREATED:20240625T201215Z
LAST-MODIFIED:20240625T201215Z
UID:10005173-1705509000-1705514400@concordacademy.org
SUMMARY:Boys Varsity Squash
DESCRIPTION:\n\nEVENT DETAILS\n\nOpponent: Moses Brown School\nHome/Away: Home\nLocation: SHAC\nResult: L 0-7
URL:https://concordacademy.org/event/boys-varsity-squash-20/
CATEGORIES:Athletics Calendar,Boys Varsity Squash
END:VEVENT
BEGIN:VEVENT
DTSTART;TZID=America/New_York:20240117T163000
DTEND;TZID=America/New_York:20240117T180000
DTSTAMP:20260422T144004
CREATED:20240625T201357Z
LAST-MODIFIED:20240625T201357Z
UID:10005170-1705509000-1705514400@concordacademy.org
SUMMARY:Girls Varsity Squash
DESCRIPTION:\n\nEVENT DETAILS\n\nOpponent: Squash Busters\nHome/Away: Away\nLocation: 257 Hope Street, Providence, RI\nResult: L 3-4
URL:https://concordacademy.org/event/girls-varsity-squash-19/
CATEGORIES:Athletics Calendar,Girls Varsity Squash
END:VEVENT
BEGIN:VEVENT
DTSTART;TZID=America/New_York:20240117T163000
DTEND;TZID=America/New_York:20240117T181500
DTSTAMP:20260422T144004
CREATED:20240625T201158Z
LAST-MODIFIED:20240625T201158Z
UID:10005175-1705509000-1705515300@concordacademy.org
SUMMARY:Boys JV Basketball
DESCRIPTION:\n\nEVENT DETAILS\n\nOpponent: Portsmouth Abbey School\nHome/Away: Away\nLocation: Portsmouth Abbey School\nResult: W 41-32
URL:https://concordacademy.org/event/boys-jv-basketball-18/
CATEGORIES:Athletics Calendar,Boys Junior Varsity Basketball
END:VEVENT
BEGIN:VEVENT
DTSTART;TZID=America/New_York:20240117T163000
DTEND;TZID=America/New_York:20240117T190000
DTSTAMP:20260422T144004
CREATED:20240625T201150Z
LAST-MODIFIED:20241106T191305Z
UID:10005176-1705509000-1705518000@concordacademy.org
SUMMARY:All Gender Wrestling
DESCRIPTION:\n\nEVENT DETAILS\n\nOpponent: Beaver Country Day School, Portsmouth Abbey School\nHome/Away: Home\nLocation: SHAC\nResult: W 84-0 (BCD), L 30-50 (PA)
URL:https://concordacademy.org/event/all-gender-wrestling-5/
CATEGORIES:All-Gender Varsity Wrestling,Athletics Calendar
END:VEVENT
END:VCALENDAR