BEGIN:VCALENDAR
VERSION:2.0
PRODID:-//Concord Academy - ECPv6.15.17.1//NONSGML v1.0//EN
CALSCALE:GREGORIAN
METHOD:PUBLISH
X-WR-CALNAME:Concord Academy
X-ORIGINAL-URL:https://concordacademy.org
X-WR-CALDESC:Events for Concord Academy
REFRESH-INTERVAL;VALUE=DURATION:PT1H
X-Robots-Tag:noindex
X-PUBLISHED-TTL:PT1H
BEGIN:VTIMEZONE
TZID:America/New_York
BEGIN:DAYLIGHT
TZOFFSETFROM:-0500
TZOFFSETTO:-0400
TZNAME:EDT
DTSTART:20220313T070000
END:DAYLIGHT
BEGIN:STANDARD
TZOFFSETFROM:-0400
TZOFFSETTO:-0500
TZNAME:EST
DTSTART:20221106T060000
END:STANDARD
BEGIN:DAYLIGHT
TZOFFSETFROM:-0500
TZOFFSETTO:-0400
TZNAME:EDT
DTSTART:20230312T070000
END:DAYLIGHT
BEGIN:STANDARD
TZOFFSETFROM:-0400
TZOFFSETTO:-0500
TZNAME:EST
DTSTART:20231105T060000
END:STANDARD
BEGIN:DAYLIGHT
TZOFFSETFROM:-0500
TZOFFSETTO:-0400
TZNAME:EDT
DTSTART:20240310T070000
END:DAYLIGHT
BEGIN:STANDARD
TZOFFSETFROM:-0400
TZOFFSETTO:-0500
TZNAME:EST
DTSTART:20241103T060000
END:STANDARD
END:VTIMEZONE
BEGIN:VEVENT
DTSTART;VALUE=DATE:20231110
DTEND;VALUE=DATE:20231112
DTSTAMP:20260424T125322
CREATED:20240625T201346Z
LAST-MODIFIED:20240625T201346Z
UID:10004601-1699574400-1699747199@concordacademy.org
SUMMARY:Girls Varsity Field Hockey
DESCRIPTION:EIL Tournament\n\nEVENT DETAILS\n\nOpponent: EIL Tournament\nHome/Away: TBD
URL:https://concordacademy.org/event/girls-varsity-field-hockey-17/
CATEGORIES:Athletics Calendar,Girls Varsity Field Hockey
END:VEVENT
BEGIN:VEVENT
DTSTART;VALUE=DATE:20231110
DTEND;VALUE=DATE:20231112
DTSTAMP:20260424T125322
CREATED:20240625T201351Z
LAST-MODIFIED:20240625T201351Z
UID:10004600-1699574400-1699747199@concordacademy.org
SUMMARY:Girls Varsity Soccer
DESCRIPTION:EIL Tournament\n\nEVENT DETAILS\n\nOpponent: EIL Tournament\nHome/Away: TBD\nLocation: TBA
URL:https://concordacademy.org/event/girls-varsity-soccer-18/
CATEGORIES:Athletics Calendar,Girls Varsity Soccer
END:VEVENT
BEGIN:VEVENT
DTSTART;VALUE=DATE:20231110
DTEND;VALUE=DATE:20231112
DTSTAMP:20260424T125322
CREATED:20240625T201405Z
LAST-MODIFIED:20240625T201405Z
UID:10004599-1699574400-1699747199@concordacademy.org
SUMMARY:Girls Varsity Volleyball
DESCRIPTION:EIL Tournament\n\nEVENT DETAILS\n\nOpponent: EIL Tournament\nHome/Away: TBD\nLocation: TBA
URL:https://concordacademy.org/event/girls-varsity-volleyball-17/
CATEGORIES:Athletics Calendar,Girls Varsity Volleyball
END:VEVENT
BEGIN:VEVENT
DTSTART;TZID=America/New_York:20231110T140000
DTEND;TZID=America/New_York:20231110T160000
DTSTAMP:20260424T125322
CREATED:20240625T201213Z
LAST-MODIFIED:20240625T201213Z
UID:10004602-1699624800-1699632000@concordacademy.org
SUMMARY:Boys Varsity Soccer
DESCRIPTION:EIL Tournament\n\nEVENT DETAILS\n\nOpponent: Berwick Academy\nHome/Away: Home\nLocation: Moriarty Athletic Campus\nResult: L (PK&#039;s)\nShuttle At: 1:00 PM
URL:https://concordacademy.org/event/boys-varsity-soccer-17/
CATEGORIES:Athletics Calendar,Boys Varsity Soccer
END:VEVENT
END:VCALENDAR