BEGIN:VCALENDAR
VERSION:2.0
PRODID:-//Concord Academy - ECPv6.15.17.1//NONSGML v1.0//EN
CALSCALE:GREGORIAN
METHOD:PUBLISH
X-ORIGINAL-URL:https://concordacademy.org
X-WR-CALDESC:Events for Concord Academy
REFRESH-INTERVAL;VALUE=DURATION:PT1H
X-Robots-Tag:noindex
X-PUBLISHED-TTL:PT1H
BEGIN:VTIMEZONE
TZID:America/New_York
BEGIN:DAYLIGHT
TZOFFSETFROM:-0500
TZOFFSETTO:-0400
TZNAME:EDT
DTSTART:20220313T070000
END:DAYLIGHT
BEGIN:STANDARD
TZOFFSETFROM:-0400
TZOFFSETTO:-0500
TZNAME:EST
DTSTART:20221106T060000
END:STANDARD
BEGIN:DAYLIGHT
TZOFFSETFROM:-0500
TZOFFSETTO:-0400
TZNAME:EDT
DTSTART:20230312T070000
END:DAYLIGHT
BEGIN:STANDARD
TZOFFSETFROM:-0400
TZOFFSETTO:-0500
TZNAME:EST
DTSTART:20231105T060000
END:STANDARD
BEGIN:DAYLIGHT
TZOFFSETFROM:-0500
TZOFFSETTO:-0400
TZNAME:EDT
DTSTART:20240310T070000
END:DAYLIGHT
BEGIN:STANDARD
TZOFFSETFROM:-0400
TZOFFSETTO:-0500
TZNAME:EST
DTSTART:20241103T060000
END:STANDARD
END:VTIMEZONE
BEGIN:VEVENT
DTSTART;TZID=America/New_York:20231011T160000
DTEND;TZID=America/New_York:20231011T173000
DTSTAMP:20260424T145631
CREATED:20240625T201236Z
LAST-MODIFIED:20240625T201236Z
UID:10004252-1697040000-1697045400@concordacademy.org
SUMMARY:Girls Varsity Field Hockey
DESCRIPTION:\n\nEVENT DETAILS\n\nOpponent: Lexington Christian Academy\nHome/Away: Home\nLocation: Moriarty Athletic Campus\nResult: W 4-0\nTransportation: Shuttle\nShuttle At: 3:00 PM
URL:https://concordacademy.org/event/girls-varsity-field-hockey-8/
CATEGORIES:Athletics Calendar,Girls Varsity Field Hockey
END:VEVENT
BEGIN:VEVENT
DTSTART;TZID=America/New_York:20231011T160000
DTEND;TZID=America/New_York:20231011T174500
DTSTAMP:20260424T145631
CREATED:20240625T201212Z
LAST-MODIFIED:20240625T201212Z
UID:10004254-1697040000-1697046300@concordacademy.org
SUMMARY:Boys Varsity Soccer
DESCRIPTION:\n\nEVENT DETAILS\n\nOpponent: Lexington Christian Academy\nHome/Away: Home\nLocation: Moriarty Athletic Campus\nResult: W 6-1\nTransportation: Shuttle
URL:https://concordacademy.org/event/boys-varsity-soccer-8/
CATEGORIES:Athletics Calendar,Boys Varsity Soccer
END:VEVENT
BEGIN:VEVENT
DTSTART;TZID=America/New_York:20231011T160000
DTEND;TZID=America/New_York:20231011T174500
DTSTAMP:20260424T145631
CREATED:20240625T201350Z
LAST-MODIFIED:20240625T201350Z
UID:10004251-1697040000-1697046300@concordacademy.org
SUMMARY:Girls Varsity Soccer
DESCRIPTION:\n\nEVENT DETAILS\n\nOpponent: Pomfret School\nHome/Away: Home\nLocation: Moriarty Athletic Campus\nResult: W 3-0\nTransportation: Shuttle\nShuttle At: 3:00 PM
URL:https://concordacademy.org/event/girls-varsity-soccer-8/
CATEGORIES:Athletics Calendar,Girls Varsity Soccer
END:VEVENT
BEGIN:VEVENT
DTSTART;TZID=America/New_York:20231011T163000
DTEND;TZID=America/New_York:20231011T180000
DTSTAMP:20260424T145631
CREATED:20240625T201208Z
LAST-MODIFIED:20240625T201208Z
UID:10004255-1697041800-1697047200@concordacademy.org
SUMMARY:Boys Varsity Cross Country
DESCRIPTION:\n\nEVENT DETAILS\n\nOpponent: Portsmouth Abbey School, Wheeler School\nHome/Away: Away\nLocation: Portsmouth Abbey School\nResult: L (PA 25- CA 29), W (CA 24 - WH 37)
URL:https://concordacademy.org/event/boys-varsity-cross-country-4/
CATEGORIES:Athletics Calendar,Boys Varsity Cross Country
END:VEVENT
BEGIN:VEVENT
DTSTART;TZID=America/New_York:20231011T163000
DTEND;TZID=America/New_York:20231011T180000
DTSTAMP:20260424T145631
CREATED:20240625T201404Z
LAST-MODIFIED:20240625T201404Z
UID:10004250-1697041800-1697047200@concordacademy.org
SUMMARY:Girls Varsity Volleyball
DESCRIPTION:\n\nEVENT DETAILS\n\nOpponent: Wheeler School\nHome/Away: Home\nLocation: SHAC\nResult: W 3-0
URL:https://concordacademy.org/event/girls-varsity-volleyball-8/
CATEGORIES:Athletics Calendar,Girls Varsity Volleyball
END:VEVENT
BEGIN:VEVENT
DTSTART;TZID=America/New_York:20231011T163000
DTEND;TZID=America/New_York:20231011T183000
DTSTAMP:20260424T145631
CREATED:20240625T201235Z
LAST-MODIFIED:20240625T201235Z
UID:10004253-1697041800-1697049000@concordacademy.org
SUMMARY:Girls Varsity Cross Country
DESCRIPTION:\n\nEVENT DETAILS\n\nOpponent: Dana Hall School, Portsmouth Abbey School, Wheeler School\nHome/Away: Away\nLocation: Portsmouth Abbey School\nResult: L (DH 21 - CA 34), L (PA 18 - CA43), W (CA 22 - WS 38)
URL:https://concordacademy.org/event/girls-varsity-cross-country-4/
CATEGORIES:Athletics Calendar,Girls Varsity Cross Country
END:VEVENT
END:VCALENDAR