BEGIN:VCALENDAR
VERSION:2.0
PRODID:-//Concord Academy - ECPv6.15.17.1//NONSGML v1.0//EN
CALSCALE:GREGORIAN
METHOD:PUBLISH
X-ORIGINAL-URL:https://concordacademy.org
X-WR-CALDESC:Events for Concord Academy
REFRESH-INTERVAL;VALUE=DURATION:PT1H
X-Robots-Tag:noindex
X-PUBLISHED-TTL:PT1H
BEGIN:VTIMEZONE
TZID:America/New_York
BEGIN:DAYLIGHT
TZOFFSETFROM:-0500
TZOFFSETTO:-0400
TZNAME:EDT
DTSTART:20220313T070000
END:DAYLIGHT
BEGIN:STANDARD
TZOFFSETFROM:-0400
TZOFFSETTO:-0500
TZNAME:EST
DTSTART:20221106T060000
END:STANDARD
BEGIN:DAYLIGHT
TZOFFSETFROM:-0500
TZOFFSETTO:-0400
TZNAME:EDT
DTSTART:20230312T070000
END:DAYLIGHT
BEGIN:STANDARD
TZOFFSETFROM:-0400
TZOFFSETTO:-0500
TZNAME:EST
DTSTART:20231105T060000
END:STANDARD
BEGIN:DAYLIGHT
TZOFFSETFROM:-0500
TZOFFSETTO:-0400
TZNAME:EDT
DTSTART:20240310T070000
END:DAYLIGHT
BEGIN:STANDARD
TZOFFSETFROM:-0400
TZOFFSETTO:-0500
TZNAME:EST
DTSTART:20241103T060000
END:STANDARD
END:VTIMEZONE
BEGIN:VEVENT
DTSTART;TZID=America/New_York:20231007T153000
DTEND;TZID=America/New_York:20231007T164500
DTSTAMP:20260424T143901
CREATED:20240625T201230Z
LAST-MODIFIED:20240625T201230Z
UID:10004201-1696692600-1696697100@concordacademy.org
SUMMARY:Girls Junior Varsity Volleyball
DESCRIPTION:\n\nEVENT DETAILS\n\nOpponent: Portsmouth Abbey School\nHome/Away: Home\nLocation: SHAC\nResult: L 1-2
URL:https://concordacademy.org/event/girls-junior-varsity-volleyball-6/
CATEGORIES:Athletics Calendar,Girls Junior Varsity Volleyball
END:VEVENT
BEGIN:VEVENT
DTSTART;TZID=America/New_York:20231007T153000
DTEND;TZID=America/New_York:20231007T170000
DTSTAMP:20260424T143901
CREATED:20240625T201153Z
LAST-MODIFIED:20240625T201153Z
UID:10004204-1696692600-1696698000@concordacademy.org
SUMMARY:Boys Junior Varsity Soccer
DESCRIPTION:\n\nEVENT DETAILS\n\nOpponent: Portsmouth Abbey School\nHome/Away: Home\nLocation: Main Campus-Middle Field\nResult: W 6-2
URL:https://concordacademy.org/event/boys-junior-varsity-soccer-7/
CATEGORIES:Athletics Calendar,Boys Junior Varsity Soccer
END:VEVENT
BEGIN:VEVENT
DTSTART;TZID=America/New_York:20231007T153000
DTEND;TZID=America/New_York:20231007T170000
DTSTAMP:20260424T143901
CREATED:20240625T201227Z
LAST-MODIFIED:20240625T201227Z
UID:10004202-1696692600-1696698000@concordacademy.org
SUMMARY:Girls Junior Varsity Soccer
DESCRIPTION:\n\nEVENT DETAILS\n\nOpponent: Portsmouth Abbey School\nHome/Away: Home\nLocation: Main Campus-Upper Field\nResult: T 2-2
URL:https://concordacademy.org/event/girls-junior-varsity-soccer-8/
CATEGORIES:Athletics Calendar,Girls Junior Varsity Soccer
END:VEVENT
BEGIN:VEVENT
DTSTART;TZID=America/New_York:20231007T153000
DTEND;TZID=America/New_York:20231007T170000
DTSTAMP:20260424T143901
CREATED:20240625T201236Z
LAST-MODIFIED:20240625T201236Z
UID:10004200-1696692600-1696698000@concordacademy.org
SUMMARY:Girls Varsity Field Hockey
DESCRIPTION:\n\nEVENT DETAILS\n\nOpponent: Portsmouth Abbey School\nHome/Away: Home\nLocation: Moriarty Athletic Campus\nResult: W 3-2 (OT)\nTransportation: Shuttle\nShuttle At: 2:30 PM
URL:https://concordacademy.org/event/girls-varsity-field-hockey-7/
CATEGORIES:Athletics Calendar,Girls Varsity Field Hockey
END:VEVENT
BEGIN:VEVENT
DTSTART;TZID=America/New_York:20231007T153000
DTEND;TZID=America/New_York:20231007T170000
DTSTAMP:20260424T143901
CREATED:20240625T201404Z
LAST-MODIFIED:20240625T201404Z
UID:10004198-1696692600-1696698000@concordacademy.org
SUMMARY:Girls Varsity Volleyball
DESCRIPTION:\n\nEVENT DETAILS\n\nOpponent: Portsmouth Abbey School\nHome/Away: Home\nLocation: SHAC\nResult: L 0-3
URL:https://concordacademy.org/event/girls-varsity-volleyball-7/
CATEGORIES:Athletics Calendar,Girls Varsity Volleyball
END:VEVENT
BEGIN:VEVENT
DTSTART;TZID=America/New_York:20231007T153000
DTEND;TZID=America/New_York:20231007T171500
DTSTAMP:20260424T143901
CREATED:20240625T201212Z
LAST-MODIFIED:20240625T201212Z
UID:10004203-1696692600-1696698900@concordacademy.org
SUMMARY:Boys Varsity Soccer
DESCRIPTION:\n\nEVENT DETAILS\n\nOpponent: Portsmouth Abbey School\nHome/Away: Home\nLocation: Moriarty Athletic Campus\nResult: W 1-0\nTransportation: Shuttle\nShuttle At: 2:15 PM
URL:https://concordacademy.org/event/boys-varsity-soccer-7/
CATEGORIES:Athletics Calendar,Boys Varsity Soccer
END:VEVENT
BEGIN:VEVENT
DTSTART;TZID=America/New_York:20231007T153000
DTEND;TZID=America/New_York:20231007T171500
DTSTAMP:20260424T143901
CREATED:20240625T201350Z
LAST-MODIFIED:20240625T201350Z
UID:10004199-1696692600-1696698900@concordacademy.org
SUMMARY:Girls Varsity Soccer
DESCRIPTION:\n\nEVENT DETAILS\n\nOpponent: Portsmouth Abbey School\nHome/Away: Home\nLocation: Moriarty Athletic Campus\nResult: L 0-1\nTransportation: Shuttle\nShuttle At: 2:30 PM
URL:https://concordacademy.org/event/girls-varsity-soccer-7/
CATEGORIES:Athletics Calendar,Girls Varsity Soccer
END:VEVENT
END:VCALENDAR