BEGIN:VCALENDAR
VERSION:2.0
PRODID:-//Concord Academy - ECPv6.15.17.1//NONSGML v1.0//EN
CALSCALE:GREGORIAN
METHOD:PUBLISH
X-ORIGINAL-URL:https://concordacademy.org
X-WR-CALDESC:Events for Concord Academy
REFRESH-INTERVAL;VALUE=DURATION:PT1H
X-Robots-Tag:noindex
X-PUBLISHED-TTL:PT1H
BEGIN:VTIMEZONE
TZID:America/New_York
BEGIN:DAYLIGHT
TZOFFSETFROM:-0500
TZOFFSETTO:-0400
TZNAME:EDT
DTSTART:20220313T070000
END:DAYLIGHT
BEGIN:STANDARD
TZOFFSETFROM:-0400
TZOFFSETTO:-0500
TZNAME:EST
DTSTART:20221106T060000
END:STANDARD
BEGIN:DAYLIGHT
TZOFFSETFROM:-0500
TZOFFSETTO:-0400
TZNAME:EDT
DTSTART:20230312T070000
END:DAYLIGHT
BEGIN:STANDARD
TZOFFSETFROM:-0400
TZOFFSETTO:-0500
TZNAME:EST
DTSTART:20231105T060000
END:STANDARD
BEGIN:DAYLIGHT
TZOFFSETFROM:-0500
TZOFFSETTO:-0400
TZNAME:EDT
DTSTART:20240310T070000
END:DAYLIGHT
BEGIN:STANDARD
TZOFFSETFROM:-0400
TZOFFSETTO:-0500
TZNAME:EST
DTSTART:20241103T060000
END:STANDARD
END:VTIMEZONE
BEGIN:VEVENT
DTSTART;TZID=America/New_York:20231004T160000
DTEND;TZID=America/New_York:20231004T171500
DTSTAMP:20260424T143721
CREATED:20240625T201229Z
LAST-MODIFIED:20240625T201229Z
UID:10004160-1696435200-1696439700@concordacademy.org
SUMMARY:Girls Junior Varsity Volleyball
DESCRIPTION:\n\nEVENT DETAILS\n\nOpponent: Dana Hall School\nHome/Away: Away\nLocation: Dana Hall School\nResult: L 0-2
URL:https://concordacademy.org/event/girls-junior-varsity-volleyball-5/
CATEGORIES:Athletics Calendar,Girls Junior Varsity Volleyball
END:VEVENT
BEGIN:VEVENT
DTSTART;TZID=America/New_York:20231004T160000
DTEND;TZID=America/New_York:20231004T173000
DTSTAMP:20260424T143721
CREATED:20240625T201404Z
LAST-MODIFIED:20240625T201404Z
UID:10004159-1696435200-1696440600@concordacademy.org
SUMMARY:Girls Varsity Volleyball
DESCRIPTION:\n\nEVENT DETAILS\n\nOpponent: Dana Hall School\nHome/Away: Away\nLocation: Dana Hall School
URL:https://concordacademy.org/event/girls-varsity-volleyball-6/
CATEGORIES:Athletics Calendar,Girls Varsity Volleyball
END:VEVENT
BEGIN:VEVENT
DTSTART;TZID=America/New_York:20231004T163000
DTEND;TZID=America/New_York:20231004T180000
DTSTAMP:20260424T143721
CREATED:20240625T201153Z
LAST-MODIFIED:20240625T201153Z
UID:10004164-1696437000-1696442400@concordacademy.org
SUMMARY:Boys Junior Varsity Soccer
DESCRIPTION:\n\nEVENT DETAILS\n\nOpponent: Wheeler School\nHome/Away: Home\nLocation: Main Campus- Middle Field\nResult: W 1-0
URL:https://concordacademy.org/event/boys-junior-varsity-soccer-6/
CATEGORIES:Athletics Calendar,Boys Junior Varsity Soccer
END:VEVENT
BEGIN:VEVENT
DTSTART;TZID=America/New_York:20231004T163000
DTEND;TZID=America/New_York:20231004T180000
DTSTAMP:20260424T143721
CREATED:20240625T201200Z
LAST-MODIFIED:20240625T201200Z
UID:10004163-1696437000-1696442400@concordacademy.org
SUMMARY:Boys Thirds Soccer
DESCRIPTION:\n\nEVENT DETAILS\n\nOpponent: Wheeler School\nHome/Away: Home\nLocation: Main Campus-Upper Field\nResult: L 0-2
URL:https://concordacademy.org/event/boys-thirds-soccer-6/
CATEGORIES:Athletics Calendar,Boys Thirds Soccer
END:VEVENT
BEGIN:VEVENT
DTSTART;TZID=America/New_York:20231004T163000
DTEND;TZID=America/New_York:20231004T180000
DTSTAMP:20260424T143721
CREATED:20240625T201227Z
LAST-MODIFIED:20240625T201227Z
UID:10004161-1696437000-1696442400@concordacademy.org
SUMMARY:Girls Junior Varsity Soccer
DESCRIPTION:\n\nEVENT DETAILS\n\nOpponent: Newton Country Day School\nHome/Away: Away\nLocation: Newton Country Day School\nResult: L 0-5
URL:https://concordacademy.org/event/girls-junior-varsity-soccer-7/
CATEGORIES:Athletics Calendar,Girls Junior Varsity Soccer
END:VEVENT
BEGIN:VEVENT
DTSTART;TZID=America/New_York:20231004T163000
DTEND;TZID=America/New_York:20231004T181500
DTSTAMP:20260424T143721
CREATED:20240625T201212Z
LAST-MODIFIED:20240625T201212Z
UID:10004162-1696437000-1696443300@concordacademy.org
SUMMARY:Boys Varsity Soccer
DESCRIPTION:\n\nEVENT DETAILS\n\nOpponent: Wheeler School\nHome/Away: Home\nLocation: Moriarty Athletic Campus\nResult: W 2-1\nTransportation: Shuttle
URL:https://concordacademy.org/event/boys-varsity-soccer-6/
CATEGORIES:Athletics Calendar,Boys Varsity Soccer
END:VEVENT
END:VCALENDAR